BEGIN:VCALENDAR
VERSION:2.0
PRODID:-//Site de la commune de Barenton - ECPv4.5.13//NONSGML v1.0//EN
CALSCALE:GREGORIAN
METHOD:PUBLISH
X-WR-CALNAME:Site de la commune de Barenton
X-ORIGINAL-URL:https://www.barenton.fr
X-WR-CALDESC:Events for Site de la commune de Barenton
BEGIN:VEVENT
DTSTART;TZID=Europe/Paris:20260426T143000
DTEND;TZID=Europe/Paris:20260426T170000
DTSTAMP:20260421T084340
CREATED:20260330T134639Z
LAST-MODIFIED:20260330T134639Z
UID:14092-1777213800-1777222800@www.barenton.fr
SUMMARY:bourse aux plantes de printemps
DESCRIPTION:Dimanche 26 avril à 14h30\, sur la Place du Jumelage à BARENTON :Bourse aux Plantes de Printemps. La seule condition pour y participer est d’apporter quelque chose : plantes\, graines\, tubercules…\, vieux outils\, revues de jardinage mais aussi gâteaux\, tisane\, café ou autre boisson non alcoolisée. \n
URL:https://www.barenton.fr/evenement/bourse-aux-plantes-de-printemps/
END:VEVENT
END:VCALENDAR