BEGIN:VCALENDAR
VERSION:2.0
PRODID:-//Site de la commune de Barenton - ECPv4.5.13//NONSGML v1.0//EN
CALSCALE:GREGORIAN
METHOD:PUBLISH
X-WR-CALNAME:Site de la commune de Barenton
X-ORIGINAL-URL:https://www.barenton.fr
X-WR-CALDESC:Events for Site de la commune de Barenton
BEGIN:VEVENT
DTSTART;TZID=Europe/Paris:20260427T180000
DTEND;TZID=Europe/Paris:20260427T200000
DTSTAMP:20260421T084221
CREATED:20260330T141220Z
LAST-MODIFIED:20260330T141220Z
UID:14094-1777312800-1777320000@www.barenton.fr
SUMMARY:pot de départ Gwénaèle et Borys
DESCRIPTION:Lundi 27 avril à 18h\, à la cantine à BARENTON : Pot de départ de Gwénaèle et Borys\, en services civiques à Barenton depuis novembre\, ils vous présenteront les projets réalisés. \n
URL:https://www.barenton.fr/evenement/pot-de-depart-gwenaele-et-borys/
END:VEVENT
END:VCALENDAR