BEGIN:VCALENDAR
VERSION:2.0
PRODID:-//Site de la commune de Barenton - ECPv4.5.13//NONSGML v1.0//EN
CALSCALE:GREGORIAN
METHOD:PUBLISH
X-WR-CALNAME:Site de la commune de Barenton
X-ORIGINAL-URL:https://www.barenton.fr
X-WR-CALDESC:Events for Site de la commune de Barenton
BEGIN:VEVENT
DTSTART;TZID=Europe/Paris:20260413T200000
DTEND;TZID=Europe/Paris:20260413T220000
DTSTAMP:20260421T090739
CREATED:20260330T114833Z
LAST-MODIFIED:20260330T114833Z
UID:14060-1776110400-1776117600@www.barenton.fr
SUMMARY:présentation du Plan Communal de Sauvegarde de Barenton
DESCRIPTION:Lundi 13 avril à 20h\, à la Salle des Fêtes à BARENTON : Présentation du Plan Communal de Sauvegarde de Barenton. Découverte du plan communal de sauvegarde rédigé par Borys et Gwénaèle\, services civiques à Barenton et présentation de la réserve citoyenne. \nRéunion publique Présentation du plan communal de sauvegarde de Barenton (2) \n
URL:https://www.barenton.fr/evenement/presentation-du-plan-communal-de-sauvegarde-de-barenton-2/
END:VEVENT
END:VCALENDAR