BEGIN:VCALENDAR
VERSION:2.0
PRODID:-//Site de la commune de Barenton - ECPv4.5.13//NONSGML v1.0//EN
CALSCALE:GREGORIAN
METHOD:PUBLISH
X-WR-CALNAME:Site de la commune de Barenton
X-ORIGINAL-URL:https://www.barenton.fr
X-WR-CALDESC:Events for Site de la commune de Barenton
BEGIN:VEVENT
DTSTART;TZID=Europe/Paris:20260421T203000
DTEND;TZID=Europe/Paris:20260421T220000
DTSTAMP:20260421T085510
CREATED:20260417T100614Z
LAST-MODIFIED:20260417T100614Z
UID:14140-1776803400-1776808800@www.barenton.fr
SUMMARY:Récital Vivaldi du Lachrimae Consort d'Amour
DESCRIPTION:Ce récital des musiques de Vivaldi est porté conjointement par l’école des arts de Mortain et la saison culturelle de la communauté d’agglomération Mont Saint-Michel – Normandie. \nL’Académie de viole de gambe\, musiques anciennes et voix de l’École des arts de Mortain-Bocage accueille les artistes lyriques et musiciens du Lachrimae Consort d’amour. \nLe gambiste Philippe Foulon s’associe au contre-ténor contralto Alexis Vassiliev pour recréer l’orchestre d’amour développé par Antonio Vivaldi et ses contemporains vénitiens au XVIIIème siècle. Une performance d’une rare virtuosité. \nRécital Vivaldi du LACHRIMAE CONSORT D’AMOUR Alexis Vassiliev\, chant Viole de gambe : Philippe Foulon Épinette / clavecin : Emer Buckley \nMardi 21 avril 2026\, 20h30 Collégiale de Mortain Saint Evroult 2 Rue du Xiième Arrondissement\, 50140 Mortain-Bocage Durée : 1h –Gratuit sans réservation dans la limite des places disponibles. \nContacts –  \nChargée de communication : christel.morel@msm-normandie.fr \n \n
URL:https://www.barenton.fr/evenement/recital-vivaldi-du-lachrimae-consort-damour/
END:VEVENT
END:VCALENDAR